BEGIN:VCALENDAR
VERSION:2.0
PRODID:-//wp-events-plugin.com//7.2.3.1//EN
TZID:Europe/Vienna
X-WR-TIMEZONE:Europe/Vienna
BEGIN:VEVENT
UID:1@kajaktiv.at
DTSTART;TZID=Europe/Vienna:20240525T093000
DTEND;TZID=Europe/Vienna:20240526T163000
DTSTAMP:20240204T181914Z
URL:https://kajaktiv.at/kurse-buchen/anfaengerkurs-badesee-aich-24-7-2023/
SUMMARY:Kajak Einsteigerkurs
DESCRIPTION:"Erlebe fesselnde Abenteuer in der freien Natur und auf wilden 
 Gewässern! Entdecke Kajaktiv - Dein Einstieg in den Kajaksport mit erfahr
 enen Lehrern und modularem Training. Perfekt vorbereitet wirst du die Enns
  entlang paddeln\, Techniken vertiefen\, Flussströmungen meistern und eig
 ene Flussfahrten planen."
ATTACH;FMTTYPE=image/jpeg:https://kajaktiv.at/wp-content/uploads/2023/06/s
 chnupper-kurs-kajak-schladming-dachstein_04.webp
LOCATION:Freizeitsee Aich\, Aich-Assach\, Aich-Assach\, 8966\, Österreich
X-APPLE-STRUCTURED-LOCATION;VALUE=URI;X-ADDRESS=Aich-Assach\, Aich-Assach\,
  8966\, Österreich;X-APPLE-RADIUS=100;X-TITLE=Freizeitsee Aich:geo:0,0
END:VEVENT
BEGIN:VTIMEZONE
TZID:Europe/Vienna
X-LIC-LOCATION:Europe/Vienna
BEGIN:DAYLIGHT
DTSTART:20240331T030000
TZOFFSETFROM:+0100
TZOFFSETTO:+0200
TZNAME:CEST
END:DAYLIGHT
END:VTIMEZONE
END:VCALENDAR