BEGIN:VCALENDAR
VERSION:2.0
PRODID:-//wp-events-plugin.com//7.2.3.1//EN
TZID:Europe/Vienna
X-WR-TIMEZONE:Europe/Vienna
BEGIN:VEVENT
UID:604@kajaktiv.at
DTSTART;TZID=Europe/Vienna:20240504T093000
DTEND;TZID=Europe/Vienna:20240505T163000
DTSTAMP:20240428T091723Z
URL:https://kajaktiv.at/kurse-buchen/mit-paddel-und-leidenschaft-kajak-ein
 steigerkurs-in-pyhrn/
SUMMARY:Mit Paddel und Leidenschaft: Kajak Einsteigerkurs in Pyhrn
DESCRIPTION:Erlebe Abenteuer und Freiheit in der Natur bei Kajakschule Kaja
 k Pyhrn! Entdecke deine Leidenschaft für das Wasser und meistere wilde Ge
 wässer mit unseren erfahrenen Kajak-Lehrern. Unser einzigartiges Modulsys
 tem ermöglicht dir eine perfekte Vorbereitung auf deine Ziele. Tauche ein
  in die faszinierende Welt des Kajakfahrens - von den Grundtechniken bis z
 ur strategischen Flussfahrt. Treffpunkt ist der malerische Aicher Badesee.
  Kursbeginn jederzeit möglich. Starte dein Kajak-Abenteuer jetzt!"
LOCATION:Pyhrn - Elisabethsee\, Parkplatz Elisabethsee\, Klaus an der Pyhrn
 bahn\, Oberösterreich\, 4564\, Österreich
X-APPLE-STRUCTURED-LOCATION;VALUE=URI;X-ADDRESS=Parkplatz Elisabethsee\, Kl
 aus an der Pyhrnbahn\, Oberösterreich\, 4564\, Österreich;X-APPLE-RADIUS
 =100;X-TITLE=Pyhrn - Elisabethsee:geo:0,0
END:VEVENT
BEGIN:VTIMEZONE
TZID:Europe/Vienna
X-LIC-LOCATION:Europe/Vienna
BEGIN:DAYLIGHT
DTSTART:20240331T030000
TZOFFSETFROM:+0100
TZOFFSETTO:+0200
TZNAME:CEST
END:DAYLIGHT
END:VTIMEZONE
END:VCALENDAR